BEGIN:VCALENDAR
VERSION:2.0
PRODID:-//Glamis Business School
CALSCALE:GREGORIAN
METHOD:PUBLISH
X-WR-CALNAME:Glamis Business School
X-ORIGINAL-URL:https://www.glamis.ac.mu/k-event/bras-deau/
X-WR-CALDESC:Bras D&#8217;eau
BEGIN:VEVENT
DTSTART:
DTEND:
SUMMARY:Bras D&#8217;eau
DESCRIPTION:
LOCATION:
END:VEVENT
END:VCALENDAR
