BEGIN:VCALENDAR
VERSION:2.0
PRODID:-//Glamis Business School
CALSCALE:GREGORIAN
METHOD:PUBLISH
X-WR-CALNAME:Glamis Business School
X-ORIGINAL-URL:https://www.glamis.ac.mu/k-event/glamis-celebrations/
X-WR-CALDESC:Glamis Celebrations
BEGIN:VEVENT
DTSTART:
DTEND:
SUMMARY:Glamis Celebrations
DESCRIPTION:
LOCATION:
END:VEVENT
END:VCALENDAR
